BEGIN:VCALENDAR
VERSION:2.0
PRODID:gruene-limburg-weilburg.de
METHOD:PUBLISH
BEGIN:VTIMEZONE
TZID:Europe/Berlin
X-LIC-LOCATION:Europe/Berlin
BEGIN:DAYLIGHT
TZOFFSETFROM:+0100
TZOFFSETTO:+0200
TZNAME:CEST
DTSTART:19700329T020000
RRULE:FREQ=YEARLY;INTERVAL=1;BYDAY=-1SU;BYMONTH=3
END:DAYLIGHT
BEGIN:STANDARD
TZOFFSETFROM:+0200
TZOFFSETTO:+0100
TZNAME:CET
DTSTART:19701025T030000
RRULE:FREQ=YEARLY;INTERVAL=1;BYDAY=-1SU;BYMONTH=10
END:STANDARD
END:VTIMEZONE
BEGIN:VEVENT
UID:f04e6f7d9ed65d247ca142951754b473@gruene-limburg-weilburg.de
URL;VALUE=URI:https://gruene-limburg-weilburg.de/termine/test/
LOCATION:Online
SUMMARY:Video-Call „Corona“
DESCRIPTION;ALTREP="data:text/html,%3Ch1%3EDie%20Corona-Pandemie%20in%20D
 eutschland%2C%20Hessen%20und%20im%20Kreis%20Limburg-Weilburg%3C%2Fh1%3E%0
 D%0ADas%20Gesundheitsamt%20des%20Kreises%20wird%20Informationen%20%C3%BCb
 er%20die%20Situation%20der%20Corona-Pandemie%20in%20unserer%20Region%20ge
 ben.%20Die%20Bundestagsabgeordnete%20Kordula%20Schulz-Asche%2C%20Sprecher
 in%20f%C3%BCr%20Pflege-%20und%20Altenpolitik%20in%20der%20Bundestagsfrakt
 ion%20von%20B%C3%9CNDNIS%2090%2FDIE%20GR%C3%9CNEN%20gibt%20einen%20%C3%9C
 berblick%20%C3%BCber%20die%20bundes-%20und%20weltweite%20Situation%20in%2
 0der%20Corona-Pandemie.%20Der%20Reformbedarf%20des%20%C3%96ffentlichen%20
 Gesundheitsdienstes%20%28%C3%96GD%29%20und%20der%20WHO%20sind%20ebenso%20
 Themen%20wie%20die%20internationale%20Solidarit%C3%A4t%20bei%20der%20Entw
 icklung%20von%20Medikamenten%20und%20Impfstoffen.%0D%0A%0D%0AInteressiert
 e%20B%C3%BCrgerinnen%20und%20B%C3%BCrger%20haben%20die%20M%C3%B6glichkeit
 %2C%20sich%20an%20den%20Diskussionen%20der%20Veranstaltung%20zu%20beteili
 gen.%20Den%20erforderlichen%20Einwahllink%20erhalten%20Sie%20in%20der%20G
 esch%C3%A4ftsstelle%20der%20GR%C3%9CNEN%20in%20Limburg%20unter%20der%20Te
 lefonnummer%2006431%2F23621.%0D%0A%0D%0A%26nbsp%3B":Die Corona-Pandemie i
 n Deutschland\, Hessen und im Kreis Limburg-Weilburg\n\nDas Gesundheitsam
 t des Kreises wird Informationen über die Situation der Corona-Pandemie 
 in unserer Region geben. Die Bundestagsabgeordnete Kordula Schulz-Asche\,
  Sprecherin für Pflege- und Altenpolitik in der Bundestagsfraktion von B
 ÜNDNIS 90/DIE GRÜNEN gibt einen Überblick über die bundes- und weltwe
 ite Situation in der Corona-Pandemie. Der Reformbedarf des Öffentlichen 
 Gesundheitsdienstes (ÖGD) und der WHO sind ebenso Themen wie die interna
 tionale Solidarität bei der Entwicklung von Medikamenten und Impfstoffen
 .\n\nInteressierte Bürgerinnen und Bürger haben die Möglichkeit\, sich
  an den Diskussionen der Veranstaltung zu beteiligen. Den erforderlichen 
 Einwahllink erhalten Sie in der Geschäftsstelle der GRÜNEN in Limburg u
 nter der Telefonnummer 06431/23621.\n\n 
CLASS:PUBLIC
DTSTART;TZID=Europe/Berlin:20200624T193000
DTEND;TZID=Europe/Berlin:20200624T203000
DTSTAMP:20260420T141700
END:VEVENT
END:VCALENDAR